BEGIN:VCALENDAR
VERSION:2.0
PRODID:-//PWI, Inc. - ECPv6.15.20//NONSGML v1.0//EN
CALSCALE:GREGORIAN
METHOD:PUBLISH
X-ORIGINAL-URL:https://pwi-e.com
X-WR-CALDESC:Events for PWI, Inc.
REFRESH-INTERVAL;VALUE=DURATION:PT1H
X-Robots-Tag:noindex
X-PUBLISHED-TTL:PT1H
BEGIN:VTIMEZONE
TZID:America/Chicago
BEGIN:DAYLIGHT
TZOFFSETFROM:-0600
TZOFFSETTO:-0500
TZNAME:CDT
DTSTART:20240310T080000
END:DAYLIGHT
BEGIN:STANDARD
TZOFFSETFROM:-0500
TZOFFSETTO:-0600
TZNAME:CST
DTSTART:20241103T070000
END:STANDARD
BEGIN:DAYLIGHT
TZOFFSETFROM:-0600
TZOFFSETTO:-0500
TZNAME:CDT
DTSTART:20250309T080000
END:DAYLIGHT
BEGIN:STANDARD
TZOFFSETFROM:-0500
TZOFFSETTO:-0600
TZNAME:CST
DTSTART:20251102T070000
END:STANDARD
BEGIN:DAYLIGHT
TZOFFSETFROM:-0600
TZOFFSETTO:-0500
TZNAME:CDT
DTSTART:20260308T080000
END:DAYLIGHT
BEGIN:STANDARD
TZOFFSETFROM:-0500
TZOFFSETTO:-0600
TZNAME:CST
DTSTART:20261101T070000
END:STANDARD
BEGIN:DAYLIGHT
TZOFFSETFROM:-0600
TZOFFSETTO:-0500
TZNAME:CDT
DTSTART:20270314T080000
END:DAYLIGHT
BEGIN:STANDARD
TZOFFSETFROM:-0500
TZOFFSETTO:-0600
TZNAME:CST
DTSTART:20271107T070000
END:STANDARD
END:VTIMEZONE
BEGIN:VEVENT
DTSTART;VALUE=DATE:20250408
DTEND;VALUE=DATE:20250411
DTSTAMP:20260425T113749
CREATED:20241014T170917Z
LAST-MODIFIED:20241014T171003Z
UID:18656-1744070400-1744329599@pwi-e.com
SUMMARY:MRO Americas 2025 - Exhibiting
DESCRIPTION:
URL:https://pwi-e.com/event/mro-americas-2025-exhibiting/
LOCATION:Georgia World Congress Center Atlanta\, Georgia World Congress Center Atlanta\, Georgia\, USA\, Atlanta\, United States\, Georgia
END:VEVENT
BEGIN:VEVENT
DTSTART;VALUE=DATE:20250429
DTEND;VALUE=DATE:20250502
DTSTAMP:20260425T113749
CREATED:20241014T171434Z
LAST-MODIFIED:20241031T155724Z
UID:18658-1745884800-1746143999@pwi-e.com
SUMMARY:NBAA Maintenance Conference 2025 - Attending
DESCRIPTION:
URL:https://pwi-e.com/event/nbaa-maintenance-conference-2025-attending/
LOCATION:Great Columbus Convention Center\, 400 North High Street\, Columbus\, OH\, 43215\, United States
END:VEVENT
BEGIN:VEVENT
DTSTART;VALUE=DATE:20250604
DTEND;VALUE=DATE:20250605
DTSTAMP:20260425T113749
CREATED:20241014T171742Z
LAST-MODIFIED:20241014T171742Z
UID:18660-1748995200-1749081599@pwi-e.com
SUMMARY:NBAA White Plains Regional Forum 2025 - Attending
DESCRIPTION:
URL:https://pwi-e.com/event/nbaa-white-plains-regional-forum-2025-attending/
LOCATION:White Plains\, NY\, White Plains\, NY\, United States
END:VEVENT
BEGIN:VEVENT
DTSTART;VALUE=DATE:20251014
DTEND;VALUE=DATE:20251017
DTSTAMP:20260425T113749
CREATED:20241014T172510Z
LAST-MODIFIED:20241014T172510Z
UID:18665-1760400000-1760659199@pwi-e.com
SUMMARY:NBAA Bace 2025 - Exhibiting
DESCRIPTION:
URL:https://pwi-e.com/event/nbaa-bace-2025-exhibiting/
LOCATION:Las Vegas Convention Center\, 3150 Paradise Rd\, Las Vegas\, NV\, 89109\, United States
END:VEVENT
BEGIN:VEVENT
DTSTART;VALUE=DATE:20260225
DTEND;VALUE=DATE:20260226
DTSTAMP:20260425T113749
CREATED:20251124T154838Z
LAST-MODIFIED:20260109T144543Z
UID:22673-1771977600-1772063999@pwi-e.com
SUMMARY:NBAA Regional Conference 2026 - Attending
DESCRIPTION:
URL:https://pwi-e.com/event/nbaa-regional-conference-attending-2/
LOCATION:Miami-Opa locka Executive Airport (OPF)\, 14201 NW 42nd Ave\, Opa Locka\, Florida\, 33054
END:VEVENT
BEGIN:VEVENT
DTSTART;VALUE=DATE:20260505
DTEND;VALUE=DATE:20260508
DTSTAMP:20260425T113749
CREATED:20251124T155355Z
LAST-MODIFIED:20251210T195230Z
UID:22676-1777939200-1778198399@pwi-e.com
SUMMARY:NBAA Maintenance Conference 2026 - Attending
DESCRIPTION:
URL:https://pwi-e.com/event/nbaa-maintenance-conference-2026-attending/
LOCATION:New Orleans Ernest N. Morial Convention Center\, 900 Convention Center Blvd\, New Orleans\, LA\, 70130\, United States
END:VEVENT
BEGIN:VEVENT
DTSTART;VALUE=DATE:20260603
DTEND;VALUE=DATE:20260604
DTSTAMP:20260425T113749
CREATED:20251124T155652Z
LAST-MODIFIED:20251124T155652Z
UID:22679-1780444800-1780531199@pwi-e.com
SUMMARY:NBAA White Plains Regional Forum 2026 - Attending
DESCRIPTION:
URL:https://pwi-e.com/event/nbaa-white-plains-regional-forum-2026-attending/
LOCATION:westchester county airport (hpn)\, 240 Airport Rd\, White Plains\, NY\, 10604\, United States
END:VEVENT
BEGIN:VEVENT
DTSTART;VALUE=DATE:20261020
DTEND;VALUE=DATE:20261023
DTSTAMP:20260425T113749
CREATED:20251124T160018Z
LAST-MODIFIED:20260109T144307Z
UID:22681-1792454400-1792713599@pwi-e.com
SUMMARY:NBAA Bace 2026 - Exhibiting
DESCRIPTION:
URL:https://pwi-e.com/event/nbaa-bace-2026-exhibiting/
LOCATION:Las Vegas Convention Center\, 3150 Paradise Rd\, Las Vegas\, NV\, 89109\, United States
END:VEVENT
END:VCALENDAR